BEGIN:VCALENDAR
VERSION:2.0
PRODID:-//The Ancient Order of Hibernians - St Columba Division - ECPv4.8.1//NONSGML v1.0//EN
CALSCALE:GREGORIAN
METHOD:PUBLISH
X-WR-CALNAME:The Ancient Order of Hibernians - St Columba Division
X-ORIGINAL-URL:http://aohcolumbia.org
X-WR-CALDESC:Events for The Ancient Order of Hibernians - St Columba Division
BEGIN:VEVENT
DTSTART;VALUE=DATE:20190306
DTEND;VALUE=DATE:20190307
DTSTAMP:20260424T022202
CREATED:20190216T182214Z
LAST-MODIFIED:20190216T182214Z
UID:343-1551830400-1551916799@aohcolumbia.org
SUMMARY:Ash Wednesday
DESCRIPTION:
URL:http://aohcolumbia.org/event/ash-wednesday/
END:VEVENT
END:VCALENDAR