BEGIN:VCALENDAR
VERSION:2.0
PRODID:-//The Ancient Order of Hibernians - St Columba Division - ECPv4.8.1//NONSGML v1.0//EN
CALSCALE:GREGORIAN
METHOD:PUBLISH
X-WR-CALNAME:The Ancient Order of Hibernians - St Columba Division
X-ORIGINAL-URL:http://aohcolumbia.org
X-WR-CALDESC:Events for The Ancient Order of Hibernians - St Columba Division
BEGIN:VEVENT
DTSTART;TZID=America/New_York:20190302T100000
DTEND;TZID=America/New_York:20190302T170000
DTSTAMP:20260423T215126
CREATED:20190216T150433Z
LAST-MODIFIED:20190228T025506Z
UID:267-1551520800-1551546000@aohcolumbia.org
SUMMARY:Camden Irish Fest
DESCRIPTION:Please arrive by 9:00 a.m. to assist with set-up.\nParade line-up is at 10:15 a.m. in front of the Kershaw-Cornwallis House. \n
URL:http://aohcolumbia.org/event/camden-irish-fest/
LOCATION:Camden Irish Fest\, 222 Broad Street\, Camden\, SC\, United States
END:VEVENT
END:VCALENDAR