BEGIN:VCALENDAR
VERSION:2.0
PRODID:-//The Ancient Order of Hibernians - St Columba Division - ECPv4.8.1//NONSGML v1.0//EN
CALSCALE:GREGORIAN
METHOD:PUBLISH
X-WR-CALNAME:The Ancient Order of Hibernians - St Columba Division
X-ORIGINAL-URL:http://aohcolumbia.org
X-WR-CALDESC:Events for The Ancient Order of Hibernians - St Columba Division
BEGIN:VEVENT
DTSTART;VALUE=DATE:20201224
DTEND;VALUE=DATE:20201225
DTSTAMP:20260421T092918
CREATED:20200521T194406Z
LAST-MODIFIED:20200521T194406Z
UID:740-1608768000-1608854399@aohcolumbia.org
SUMMARY:Christmas Eve
DESCRIPTION:
URL:http://aohcolumbia.org/event/christmas-eve-2/
END:VEVENT
END:VCALENDAR