BEGIN:VCALENDAR
VERSION:2.0
PRODID:-//The Ancient Order of Hibernians - St Columba Division - ECPv4.8.1//NONSGML v1.0//EN
CALSCALE:GREGORIAN
METHOD:PUBLISH
X-WR-CALNAME:The Ancient Order of Hibernians - St Columba Division
X-ORIGINAL-URL:http://aohcolumbia.org
X-WR-CALDESC:Events for The Ancient Order of Hibernians - St Columba Division
BEGIN:VEVENT
DTSTART;TZID=America/New_York:20190305T173000
DTEND;TZID=America/New_York:20190305T183000
DTSTAMP:20260424T022515
CREATED:20190302T020119Z
LAST-MODIFIED:20190302T022705Z
UID:481-1551807000-1551810600@aohcolumbia.org
SUMMARY:Dyeing of the Five Points Fountain
DESCRIPTION:Please wear your AOH shirt\, jacket\, sash\, etc.   Kilt up if you have one! \n
URL:http://aohcolumbia.org/event/dyeing-of-the-fountain-in-five-points-2/
LOCATION:Five Points Fountain\, Harden Street at Greene Street\, Columbia\, SC\, United States
END:VEVENT
END:VCALENDAR