BEGIN:VCALENDAR
VERSION:2.0
PRODID:-//The Ancient Order of Hibernians - St Columba Division - ECPv4.8.1//NONSGML v1.0//EN
CALSCALE:GREGORIAN
METHOD:PUBLISH
X-WR-CALNAME:The Ancient Order of Hibernians - St Columba Division
X-ORIGINAL-URL:http://aohcolumbia.org
X-WR-CALDESC:Events for The Ancient Order of Hibernians - St Columba Division
BEGIN:VEVENT
DTSTART;TZID=America/New_York:20190317T173000
DTEND;TZID=America/New_York:20190317T183000
DTSTAMP:20260423T214753
CREATED:20190216T174602Z
LAST-MODIFIED:20190313T005030Z
UID:307-1552843800-1552847400@aohcolumbia.org
SUMMARY:Division Mass at The Basilica of St. Peter
DESCRIPTION:Please wear AOH sash\, shirt\, or jacket to the Mass. \nSocial for St. Patrick’s Day to follow after Mass.    \nLocation TBD by consensus of the group. \n
URL:http://aohcolumbia.org/event/mass-at-the-basilica-of-st-peter-for-st-patricks-day/
LOCATION:Basilica of St. Peter\, 1529 Assembly Street\, Columbia\, South Carolina\, United States
END:VEVENT
END:VCALENDAR