BEGIN:VCALENDAR
VERSION:2.0
PRODID:-//The Ancient Order of Hibernians - St Columba Division - ECPv4.8.1//NONSGML v1.0//EN
CALSCALE:GREGORIAN
METHOD:PUBLISH
X-WR-CALNAME:The Ancient Order of Hibernians - St Columba Division
X-ORIGINAL-URL:http://aohcolumbia.org
X-WR-CALDESC:Events for The Ancient Order of Hibernians - St Columba Division
BEGIN:VEVENT
DTSTART;TZID=America/New_York:20190309T140000
DTEND;TZID=America/New_York:20190309T153000
DTSTAMP:20260424T035238
CREATED:20190216T153429Z
LAST-MODIFIED:20190216T175336Z
UID:282-1552140000-1552145400@aohcolumbia.org
SUMMARY:St. Patrick's Shamrock Parade in Lexington\, SC
DESCRIPTION:Parade line-up at 1:00 on the corner of Haygood Avenue and Butler Streets.   (Behind McDonalds on Hwy 378) \n
URL:http://aohcolumbia.org/event/st-patricks-shamrock-parade/
LOCATION:Lexington\, SC\, W. Butler and Haygood Streets\, Lexington\, SC\, United States
END:VEVENT
END:VCALENDAR