BEGIN:VCALENDAR
VERSION:2.0
PRODID:-//The Ancient Order of Hibernians - St Columba Division - ECPv4.8.1//NONSGML v1.0//EN
CALSCALE:GREGORIAN
METHOD:PUBLISH
X-WR-CALNAME:The Ancient Order of Hibernians - St Columba Division
X-ORIGINAL-URL:http://aohcolumbia.org
X-WR-CALDESC:Events for The Ancient Order of Hibernians - St Columba Division
BEGIN:VEVENT
DTSTART;TZID=America/New_York:20190317T161500
DTEND;TZID=America/New_York:20190317T164500
DTSTAMP:20260423T231834
CREATED:20190216T173816Z
LAST-MODIFIED:20190313T004804Z
UID:303-1552839300-1552841100@aohcolumbia.org
SUMMARY:Wreath Ceremony at Irish Memorial
DESCRIPTION:We will meet at the entrance to Riverfront Park and process to the Irish Memorial. \nAfterward\, we will attend 5:30 Mass as a Division at The Basilica of St. Peter. \n
URL:http://aohcolumbia.org/event/wreath-ceremony-at-irish-memorial/
LOCATION:Irish Memorial\, Riverfront Park\, Columbia\, SC\, United States
END:VEVENT
END:VCALENDAR